Workbook

Sheet Sheet1
A1: Trường THPT Nguyễn Văn Tăng
A2: BẢNG ĐIỂM TRẮC NGHIỆM KỲ THI: GIỮA HỌC KÌ 1 - NĂM HỌC 2016-2017
A3: MÔN: ĐỊA
A6: Số báo danh | B6: Họ tên thí sinh | C6: Ngày sinh | D6: Lớp | E6: Phòng | F6: Mã đề | G6: Số câu đúng | H6: Điểm | I6: Các câu trả lời | J6: Ghi chú
A7: 913 | B7: Nguyễn Phương Ngọc Anh | C7: 19/10/2000 | D7: 12A1 | E7: 8 | F7: 132 | G7: 17 | H7: 3.4 | I7: =VLOOKUP(A7,Sheet2!$B$1:$C$1698,2,0) -> AADACBBCDBCDDACCDCDBDBBCCBDAAA
A8: 914 | B8: Tạ Lan Anh | C8: 14/09/2000 | D8: 12A1 | E8: 8 | F8: 209 | G8: 13 | H8: 2.6 | I8: =VLOOKUP(A8,Sheet2!$B$1:$C$1698,2,0) -> CACDCABCCBDDABB-ABADADDDBBDACC
A9: 919 | B9: Đặng Hoài Ân | C9: 36651 | D9: 12A1 | E9: 8 | F9: 485 | G9: 11 | H9: 2.2 | I9: =VLOOKUP(A9,Sheet2!$B$1:$C$1698,2,0) -> DACBC-BBA-CDCADACD------CBBACD
A10: 932 | B10: Trần Ngọc Uyên Chi | C10: 36681 | D10: 12A1 | E10: 8 | F10: 209 | G10: 14 | H10: 2.8 | I10: =VLOOKUP(A10,Sheet2!$B$1:$C$1698,2,0) -> BCBDCBBACADBDC-DADA-AAABCCDA-C
A11: 940 | B11: Lã Mạnh Cương | C11: 20/08/2000 | D11: 12A1 | E11: 8 | F11: 132 | G11: 22 | H11: 4.4 | I11: =VLOOKUP(A11,Sheet2!$B$1:$C$1698,2,0) -> AADACDBCCBCBDCADDACDABBDBACACA
A12: 952 | B12: Nguyễn Anh Duy | C12: 22/05/1999 | D12: 12A1 | E12: 8 | F12: 485 | G12: 8 | H12: 1.6 | I12: =VLOOKUP(A12,Sheet2!$B$1:$C$1698,2,0) -> BDDBACBBACAABDABCDBCABCCBBDABC
A13: 970 | B13: Nguyễn Thành Đạt | C13: 20/02/2000 | D13: 12A1 | E13: 9 | F13: 209 | G13: 8 | H13: 1.6 | I13: =VLOOKUP(A13,Sheet2!$B$1:$C$1698,2,0) -> AB-BBDDCAABBDDBBAAADAACADDBBBB
A14: 975 | B14: Nguyễn Sĩ Anh Đức | C14: 13/11/1999 | D14: 12A1 | E14: 9 | F14: 357 | G14: 12 | H14: 2.4 | I14: =VLOOKUP(A14,Sheet2!$B$1:$C$1698,2,0) -> BBCDCDCCCBBCBDBADDACBCCCCCCCCD
A15: 990 | B15: Nguyễn Thanh Hậu | C15: 30/05/1999 | D15: 12A1 | E15: 9 | F15: 357 | G15: 12 | H15: 2.4 | I15: =VLOOKUP(A15,Sheet2!$B$1:$C$1698,2,0) -> DDABABCAABADBABAACABBBDDCDDBAD
A16: 992 | B16: Nguyễn Thị Thu Hiền | C16: 30/10/2000 | D16: 12A1 | E16: 9 | F16: 485 | G16: 12 | H16: 2.4 | I16: =VLOOKUP(A16,Sheet2!$B$1:$C$1698,2,0) -> BAADADDCAADDCC-ADABBDDDCCBDDB-
A17: 1033 | B17: Trần Thị Kim Khánh | C17: 28/08/2000 | D17: 12A1 | E17: 10 | F17: 357 | G17: 11 | H17: 2.2 | I17: =VLOOKUP(A17,Sheet2!$B$1:$C$1698,2,0) -> DCDBCB-AAADBBCAAACDBDBDAABADBC
A18: 1049 | B18: Hồ Văn Lợi | C18: 36809 | D18: 12A1 | E18: 11 | F18: 209 | G18: 14 | H18: 2.8 | I18: =VLOOKUP(A18,Sheet2!$B$1:$C$1698,2,0) -> BCBDCAAADABDAAADDBBBCDBDBCDDCD
A19: 1113 | B19: Nguyễn Thành Phú | C19: 19/12/2000 | D19: 12A1 | E19: 12 | F19: 357 | G19: 11 | H19: 2.2 | I19: =VLOOKUP(A19,Sheet2!$B$1:$C$1698,2,0) -> CADBCBDAAAAAACAACADDCABDBCBDBD
A20: 1138 | B20: Lê Minh Quý | C20: 36292 | D20: 12A1 | E20: 12 | F20: 132 | G20: 12 | H20: 2.4 | I20: =VLOOKUP(A20,Sheet2!$B$1:$C$1698,2,0) -> AACBBDDCCCCDCADBDACBABDCBCBACD
A21: 1156 | B21: Trần Ngọc Linh Tâm | C21: 24/12/2000 | D21: 12A1 | E21: 13 | F21: 485 | G21: 7 | H21: 1.4 | I21: =VLOOKUP(A21,Sheet2!$B$1:$C$1698,2,0) -> DDACDBCBACCBDAACBACBBADDDCBCAD
A22: 1174 | B22: Đặng Quốc Thắng | C22: 23/04/2000 | D22: 12A1 | E22: 13 | F22: 209 | G22: 8 | H22: 1.6 | I22: =VLOOKUP(A22,Sheet2!$B$1:$C$1698,2,0) -> DBDBADBCADBCABDABCBDACBACBADBD
A23: 1182 | B23: Đoàn Gia Hải Thiên | C23: 36557 | D23: 12A1 | E23: 13 | F23: 485 | G23: 20 | H23: 4 | I23: =VLOOKUP(A23,Sheet2!$B$1:$C$1698,2,0) -> CCCBADBABCCDABCACADBABDCDCBAAB
A24: 1193 | B24: Nguyễn Thanh Thủy | C24: 17/09/2000 | D24: 12A1 | E24: 13 | F24: 485 | G24: 9 | H24: 1.8 | I24: =VLOOKUP(A24,Sheet2!$B$1:$C$1698,2,0) -> CDAACDDBABDDCDDACBCBABBBACADCD
A25: 1205 | B25: Đặng Minh Tiến | C25: 20/01/2000 | D25: 12A1 | E25: 14 | F25: 132 | G25: 10 | H25: 2 | I25: =VLOOKUP(A25,Sheet2!$B$1:$C$1698,2,0) -> AACDBDADCBCCCDCBDBCDDAAADBBAAB
A26: 1244 | B26: Lê Thanh Tùng | C26: 35837 | D26: 12A1 | E26: 15 | F26: 357 | G26: 13 | H26: 2.6 | I26: =VLOOKUP(A26,Sheet2!$B$1:$C$1698,2,0) -> BDACCBAAAADDBABAACDCCADDBADDAD
A27: 1256 | B27: Nguyễn Đức Việt | C27: 22/11/2000 | D27: 12A1 | E27: 15 | F27: 132 | G27: 13 | H27: 2.6 | I27: =VLOOKUP(A27,Sheet2!$B$1:$C$1698,2,0) -> ADDABBBDCABACCCCDBBBDADDBBAACA
A28: 1262 | B28: Nguyễn Hiếu Tường Vy | C28: 20/06/2000 | D28: 12A1 | E28: 15 | F28: 209 | G28: 8 | H28: 1.6 | I28: =VLOOKUP(A28,Sheet2!$B$1:$C$1698,2,0) -> ACBCBDADCADCDBCCDDABCBADDBCDCA
A29: 918 | B29: Nguyễn Thị Ánh | C29: 18/02/2000 | D29: 12A2 | E29: 8 | F29: 485 | G29: 23 | H29: 4.6 | I29: =VLOOKUP(A29,Sheet2!$B$1:$C$1698,2,0) -> AADCABBBACCDCCCACADAADCCCCBDAB
A30: 931 | B30: Tháng Hoàn Liên Châu | C30: 36715 | D30: 12A2 | E30: 8 | F30: 209 | G30: 13 | H30: 2.6 | I30: =VLOOKUP(A30,Sheet2!$B$1:$C$1698,2,0) -> DBDCCDBABCDBABADAABCDDBCBCDACD
A31: 951 | B31: Lê Minh Duy | C31: 23/12/1999 | D31: 12A2 | E31: 8 | F31: 357 | G31: 13 | H31: 2.6 | I31: =VLOOKUP(A31,Sheet2!$B$1:$C$1698,2,0) -> DBBCCDACBDBAADBDCCDBDACDBDACDD
A32: 955 | B32: Trần Khánh Duy | C32: 16/05/2000 | D32: 12A2 | E32: 9 | F32: 132 | G32: 13 | H32: 2.6 | I32: =VLOOKUP(A32,Sheet2!$B$1:$C$1698,2,0) -> CACADDBDCBBABCCCDABADBADBCAACB
A33: 966 | B33: Mai Thành Đạt | C33: 36589 | D33: 12A2 | E33: 9 | F33: 485 | G33: 10 | H33: 2 | I33: =VLOOKUP(A33,Sheet2!$B$1:$C$1698,2,0) -> CACACCBDADCACBBBCACBAACAABBCBB
A34: 969 | B34: Nguyễn Phước Đạt | C34: 20/09/2000 | D34: 12A2 | E34: 9 | F34: 132 | G34: 12 | H34: 2.4 | I34: =VLOOKUP(A34,Sheet2!$B$1:$C$1698,2,0) -> CADABABAAACDDBBADCABBAACCBBACD
A35: 987 | B35: Lê Kim Hằng | C35: 13/02/2000 | D35: 12A2 | E35: 9 | F35: 209 | G35: 13 | H35: 2.6 | I35: =VLOOKUP(A35,Sheet2!$B$1:$C$1698,2,0) -> BABBBCBCDACAA*CCAABADCBBBADDCC
A36: 995 | B36: Nguyễn Minh Hiển | C36: 15/10/2000 | D36: 12A2 | E36: 9 | F36: 485 | G36: 10 | H36: 2 | I36: =VLOOKUP(A36,Sheet2!$B$1:$C$1698,2,0) -> ADDCABBABACCCADBCBBABCACDCBDDC
A37: 996 | B37: Hoàng Ngọc Hiệp | C37: 36775 | D37: 12A2 | E37: 10 | F37: 357 | G37: 17 | H37: 3.4 | I37: =VLOOKUP(A37,Sheet2!$B$1:$C$1698,2,0) -> BBDCDDACACACCBBCACDAAADDDCACAD
A38: 1011 | B38: Lã Minh Huy | C38: 36258 | D38: 12A2 | E38: 10 | F38: 132 | G38: 13 | H38: 2.6 | I38: =VLOOKUP(A38,Sheet2!$B$1:$C$1698,2,0) -> AABCBDBBDBADACDBDCADDDBCBABAAB
A39: 1019 | B39: Nguyễn Ngọc Thanh Huyền | C39: 36719 | D39: 12A2 | E39: 10 | F39: 485 | G39: 10 | H39: 2 | I39: =VLOOKUP(A39,Sheet2!$B$1:$C$1698,2,0) -> DDCBCDDDABBCCBDACABDABCBDADABD
A40: 1060 | B40: Phan Anh Minh | C40: 26/09/2000 | D40: 12A2 | E40: 11 | F40: 132 | G40: 16 | H40: 3.2 | I40: =VLOOKUP(A40,Sheet2!$B$1:$C$1698,2,0) -> AADABABADCADBDACBDCBACADABBACA
A41: 1091 | B41: Vũ Đào Thúy Nhi | C41: 27/08/2000 | D41: 12A2 | E41: 11 | F41: 485 | G41: 15 | H41: 3 | I41: =VLOOKUP(A41,Sheet2!$B$1:$C$1698,2,0) -> DABBCDBBACCABBDACADCAADBDCBADC
A42: 1105 | B42: Nguyễn Duy Phát | C42: 25/03/2000 | D42: 12A2 | E42: 12 | F42: 209 | G42: 21 | H42: 4.2 | I42: =VLOOKUP(A42,Sheet2!$B$1:$C$1698,2,0) -> BCDCCABADADCDBCDDAACBCDCADDBCA
A43: 1123 | B43: Nguyễn Hoàng Phương | C43: 36839 | D43: 12A2 | E43: 12 | F43: 209 | G43: 19 | H43: 3.8 | I43: =VLOOKUP(A43,Sheet2!$B$1:$C$1698,2,0) -> BCCBCCCADADBDBCDAAABAACBBDDDCB
A44: 1131 | B44: Đỗ Cao Minh Quân | C44: 28/04/2000 | D44: 12A2 | E44: 12 | F44: 485 | G44: 14 | H44: 2.8 | I44: =VLOOKUP(A44,Sheet2!$B$1:$C$1698,2,0) -> DDCACDABACBACBDDDACBBDDDCCBABB
A45: 1148 | B45: Lê Trọng Tài | C45: 30/08/2000 | D45: 12A2 | E45: 12 | F45: 485 | G45: 13 | H45: 2.6 | I45: =VLOOKUP(A45,Sheet2!$B$1:$C$1698,2,0) -> AACAABBBACCCCBBAABDAABBAAADBBA
A46: 1171 | B46: Nguyễn Thị Thanh Thảo | C46: 29/12/2000 | D46: 12A2 | E46: 13 | F46: 357 | G46: 11 | H46: 2.2 | I46: =VLOOKUP(A46,Sheet2!$B$1:$C$1698,2,0) -> CCCACACAAACCDDCCADDBADCDABAAAA
A47: 1198 | B47: Võ Thị Minh Thư | C47: 36810 | D47: 12A2 | E47: 14 | F47: 209 | G47: 18 | H47: 3.6 | I47: =VLOOKUP(A47,Sheet2!$B$1:$C$1698,2,0) -> DAABCAAADADCABCDAAABADDBB-DBAA
A48: 1208 | B48: Nguyễn Phúc Tính | C48: 13/10/2000 | D48: 12A2 | E48: 14 | F48: 209 | G48: 18 | H48: 3.6 | I48: =VLOOKUP(A48,Sheet2!$B$1:$C$1698,2,0) -> BCCBCBBADBCCACCDAAADDCDCBBDDCC
A49: 1217 | B49: Trần Thị Trúc Trâm | C49: 36770 | D49: 12A2 | E49: 14 | F49: 485 | G49: 21 | H49: 4.2 | I49: =VLOOKUP(A49,Sheet2!$B$1:$C$1698,2,0) -> AACBADBBACBDCADCCADDADACCCBABC
A50: 1225 | B50: Đào Hữu Trọng | C50: 36413 | D50: 12A2 | E50: 14 | F50: 357 | G50: 20 | H50: 4 | I50: =VLOOKUP(A50,Sheet2!$B$1:$C$1698,2,0) -> DBBBCBDCBBBABDBAACDBBCDDBCAAAC
A51: 1266 | B51: Nguyễn Thị Thúy Vy | C51: 36500 | D51: 12A2 | E51: 15 | F51: 132 | G51: 11 | H51: 2.2 | I51: =VLOOKUP(A51,Sheet2!$B$1:$C$1698,2,0) -> ABACDDACDBCC-BCCBACBABACBBAAAC
A52: 944 | B52: Trần Công Danh | C52: 36777 | D52: 12A3 | E52: 8 | F52: 132 | G52: 16 | H52: 3.2 | I52: =VLOOKUP(A52,Sheet2!$B$1:$C$1698,2,0) -> AADCADBCDDADDDCADAABCBDDABBACB
A53: 985 | B53: Đoàn Thị Thanh Hảo | C53: 20/08/2000 | D53: 12A3 | E53: 9 | F53: 132 | G53: 21 | H53: 4.2 | I53: =VLOOKUP(A53,Sheet2!$B$1:$C$1698,2,0) -> AADACDBCCCCDDCCCDABDBBDDBBAAAA
A54: 986 | B54: Lâm Nguyễn Thúy Hằng | C54: 14/06/2000 | D54: 12A3 | E54: 9 | F54: 132 | G54: 13 | H54: 2.6 | I54: =VLOOKUP(A54,Sheet2!$B$1:$C$1698,2,0) -> AADDBABCDDADDCCCDAADBACCCCAACB
A55: 1024 | B55: Nguyễn Thị Mai Hương | C55: 36527 | D55: 12A3 | E55: 10 | F55: 209 | G55: 18 | H55: 3.6 | I55: =VLOOKUP(A55,Sheet2!$B$1:$C$1698,2,0) -> BBCBBCBADADBABCDAAADACABBCDBCC
A56: 1062 | B56: Nguyễn Thị Diễm My | C56: 21/06/2000 | D56: 12A3 | E56: 11 | F56: 132 | G56: 10 | H56: 2 | I56: =VLOOKUP(A56,Sheet2!$B$1:$C$1698,2,0) -> BAAACADADBCDCCCABBABACACADCAA-
A57: 1069 | B57: Nguyễn Ngọc Kim Ngân | C57: 20/11/2000 | D57: 12A3 | E57: 11 | F57: 485 | G57: 15 | H57: 3 | I57: =VLOOKUP(A57,Sheet2!$B$1:$C$1698,2,0) -> ACCBABBBDADDCBDBCACCADBCDACCBD
A58: 1092 | B58: Bùi Thanh Nhiên | C58: 19/03/2000 | D58: 12A3 | E58: 11 | F58: 485 | G58: 19 | H58: 3.8 | I58: =VLOOKUP(A58,Sheet2!$B$1:$C$1698,2,0) -> AACBADBBACBACBDBAACCADDDCCBCCD
A59: 1097 | B59: Lưu Huỳnh Như | C59: 18/05/2000 | D59: 12A3 | E59: 11 | F59: 132 | G59: 15 | H59: 3 | I59: =VLOOKUP(A59,Sheet2!$B$1:$C$1698,2,0) -> AADAADACABCDDDCADACDAABCCBDAAA
A60: 1098 | B60: Nguyễn Nguyễn Chúc Như | C60: 36749 | D60: 12A3 | E60: 11 | F60: 132 | G60: 9 | H60: 1.8 | I60: =VLOOKUP(A60,Sheet2!$B$1:$C$1698,2,0) -> ABBAC-DCDBADCACDDCCBDACCACBACD
A61: 1122 | B61: Nguyễn Hiếu Phương | C61: 25/12/1999 | D61: 12A3 | E61: 12 | F61: 485 | G61: 17 | H61: 3.4 | I61: =VLOOKUP(A61,Sheet2!$B$1:$C$1698,2,0) -> DACBCDBBCCADCADBCADDAADADABDBB
A62: 1124 | B62: Nguyễn Thanh Phương | C62: 19/12/2000 | D62: 12A3 | E62: 12 | F62: 357 | G62: 12 | H62: 2.4 | I62: =VLOOKUP(A62,Sheet2!$B$1:$C$1698,2,0) -> BBDBCCAACACACACBADABCCDDBDDAAB
A63: 1169 | B63: Nguyễn Thiện Thành | C63: 36742 | D63: 12A3 | E63: 13 | F63: 357 | G63: 15 | H63: 3 | I63: =VLOOKUP(A63,Sheet2!$B$1:$C$1698,2,0) -> BBCBCDCAACCDCCCDCCAACADDCDDCAD
A64: 1192 | B64: Nguyễn Thị Thùy | C64: 30/10/1999 | D64: 12A3 | E64: 13 | F64: 209 | G64: 9 | H64: 1.8 | I64: =VLOOKUP(A64,Sheet2!$B$1:$C$1698,2,0) -> DBDBADBCABDDACCDAAABCCBADBDDAA
A65: 1196 | B65: Trần Thị Mộng Thư | C65: 36719 | D65: 12A3 | E65: 14 | F65: 132 | G65: 16 | H65: 3.2 | I65: =VLOOKUP(A65,Sheet2!$B$1:$C$1698,2,0) -> AADADDACDCBDDCCCDCCDBDADCBCACA
A66: 1206 | B66: Nguyễn Trọng Tín | C66: 21/05/2000 | D66: 12A3 | E66: 14 | F66: 132 | G66: 10 | H66: 2 | I66: =VLOOKUP(A66,Sheet2!$B$1:$C$1698,2,0) -> AACACDCDCBADBCCADAD-DCCBCDBCAD
A67: 1231 | B67: Nguyễn Quốc Trường | C67: 26/09/2000 | D67: 12A3 | E67: 14 | F67: 485 | G67: 20 | H67: 4 | I67: =VLOOKUP(A67,Sheet2!$B$1:$C$1698,2,0) -> DACBADBCACBDCCDAAADBABDBCCBDAC
A68: 1235 | B68: Nguyễn Trọng Tú | C68: 36281 | D68: 12A3 | E68: 15 | F68: 209 | G68: 17 | H68: 3.4 | I68: =VLOOKUP(A68,Sheet2!$B$1:$C$1698,2,0) -> CDCACADADADCAACDAAACAAAABDCDCB
A69: 1243 | B69: Trương Thái Tuấn | C69: 14/12/2000 | D69: 12A3 | E69: 15 | F69: 357 | G69: 12 | H69: 2.4 | I69: =VLOOKUP(A69,Sheet2!$B$1:$C$1698,2,0) -> DDCACBAAAAAACCACBCADACDDCBDBAD
A70: 1247 | B70: Nguyễn Ích Nam Tường | C70: 19/08/2000 | D70: 12A3 | E70: 15 | F70: 209 | G70: 21 | H70: 4.2 | I70: =VLOOKUP(A70,Sheet2!$B$1:$C$1698,2,0) -> DCCBCDBADADCABCDAAACAACACDDAAC
A71: 1258 | B71: Trần Quốc Vũ | C71: 36528 | D71: 12A3 | E71: 15 | F71: 132 | G71: 7 | H71: 1.4 | I71: =VLOOKUP(A71,Sheet2!$B$1:$C$1698,2,0) -> BABDAABCDBCACBDBDACBBBDCCCAAAD
A72: 926 | B72: Vũ Nguyễn Thái Bình | C72: 25/07/2000 | D72: 12A4 | E72: 9 | F72: 209 | G72: 8 | H72: 1.6 | I72: =VLOOKUP(A72,Sheet2!$B$1:$C$1698,2,0) -> CBCADACABADCAAABCDAABDCCDDDCAB
A73: 936 | B73: Trần Đức Chính | C73: 36773 | D73: 12A4 | E73: 8 | F73: 357 | G73: 21 | H73: 4.2 | I73: =VLOOKUP(A73,Sheet2!$B$1:$C$1698,2,0) -> BBBACBDAABAAACCAACDDACDDBAACAC
A74: 939 | B74: Phan Thành Công | C74: 36535 | D74: 12A4 | E74: 8 | F74: 485 | G74: 18 | H74: 3.6 | I74: =VLOOKUP(A74,Sheet2!$B$1:$C$1698,2,0) -> BCCBADBBDACDCBDACAADAADACABDCD
A75: 947 | B75: Giang Lê Phương Du | C75: 16/08/2000 | D75: 12A4 | E75: 8 | F75: 357 | G75: 13 | H75: 2.6 | I75: =VLOOKUP(A75,Sheet2!$B$1:$C$1698,2,0) -> CBACCBADCCAABCBACDDBDCDDBAADAD
A76: 953 | B76: Nguyễn Khắc Bảo Duy | C76: 29/09/2000 | D76: 12A4 | E76: 8 | F76: 485 | G76: 17 | H76: 3.4 | I76: =VLOOKUP(A76,Sheet2!$B$1:$C$1698,2,0) -> BADAADBCAACDCBCBCAAAABDCDABDBB
A77: 962 | B77: Nguyễn Hải Dương | C77: 36835 | D77: 12A4 | E77: 9 | F77: 357 | G77: 13 | H77: 2.6 | I77: =VLOOKUP(A77,Sheet2!$B$1:$C$1698,2,0) -> DBBACBAAACAABDBACBBBDADCBBAAAD
A78: 965 | B78: Bùi Thành Đạt | C78: 36535 | D78: 12A4 | E78: 9 | F78: 485 | G78: 12 | H78: 2.4 | I78: =VLOOKUP(A78,Sheet2!$B$1:$C$1698,2,0) -> BCCBADABBCCDDAABDACCAAAAAABDAC
A79: 989 | B79: Nguyễn Bá Hậu | C79: 24/02/2000 | D79: 12A4 | E79: 9 | F79: 209 | G79: 16 | H79: 3.2 | I79: =VLOOKUP(A79,Sheet2!$B$1:$C$1698,2,0) -> CCDBCDCADADCDBBCDAACBBDBADCDAD
A80: 1003 | B80: Ngô Thương Hoài | C80: 28/10/2000 | D80: 12A4 | E80: 10 | F80: 485 | G80: 9 | H80: 1.8 | I80: =VLOOKUP(A80,Sheet2!$B$1:$C$1698,2,0) -> CCCDABBBBDACABCBCAACBDBADADCBA
A81: 1008 | B81: Nguyễn Minh Huân | C81: 36041 | D81: 12A4 | E81: 10 | F81: 209 | G81: 21 | H81: 4.2 | I81: =VLOOKUP(A81,Sheet2!$B$1:$C$1698,2,0) -> BCCBCACADABCAACDBAABACCBBDCACA
A82: 1053 | B82: Nguyễn Trần Anh Luân | C82: 14/07/2000 | D82: 12A4 | E82: 11 | F82: 209 | G82: 17 | H82: 3.4 | I82: =VLOOKUP(A82,Sheet2!$B$1:$C$1698,2,0) -> BABBBACCAABCCBCDAABCABDCBADAAC
A83: 1058 | B83: Lê Nhật Minh | C83: 22/03/2000 | D83: 12A4 | E83: 11 | F83: 485 | G83: 9 | H83: 1.8 | I83: =VLOOKUP(A83,Sheet2!$B$1:$C$1698,2,0) -> BCDBCADBCCBDBADCBABCBCDBCABBCC
A84: 1101 | B84: Trương Huỳnh Như | C84: 15/02/1999 | D84: 12A4 | E84: 12 | F84: 132 | G84: 15 | H84: 3 | I84: =VLOOKUP(A84,Sheet2!$B$1:$C$1698,2,0) -> AABACADABBCDDCADDACBCAACBBDAAA
A85: 1118 | B85: Nguyễn Gia Phúc | C85: 19/03/2000 | D85: 12A4 | E85: 12 | F85: 209 | G85: 10 | H85: 2 | I85: =VLOOKUP(A85,Sheet2!$B$1:$C$1698,2,0) -> BDCDABCCBCDBABCDBBABACCDBDDCAD
A86: 1119 | B86: Nguyễn Minh Phúc | C86: 19/08/2000 | D86: 12A4 | E86: 12 | F86: 132 | G86: 14 | H86: 2.8 | I86: =VLOOKUP(A86,Sheet2!$B$1:$C$1698,2,0) -> AACBBADBCBDDDCBDBACBCBBDCBCADB
A87: 1140 | B87: Trần Hạnh Quỳnh | C87: 36872 | D87: 12A4 | E87: 12 | F87: 209 | G87: 15 | H87: 3 | I87: =VLOOKUP(A87,Sheet2!$B$1:$C$1698,2,0) -> BBDDAABADCDDABCDADABADDDBBDDAB
A88: 1146 | B88: Trần Thị Tuyết Sương | C88: 26/09/2000 | D88: 12A4 | E88: 12 | F88: 357 | G88: 15 | H88: 3 | I88: =VLOOKUP(A88,Sheet2!$B$1:$C$1698,2,0) -> BCDBCBCAACBABDAACCDBCCBDBCCCBD
A89: 1151 | B89: Nguyễn Phạm Khánh Tài | C89: 29/10/2000 | D89: 12A4 | E89: 13 | F89: 132 | G89: 13 | H89: 2.6 | I89: =VLOOKUP(A89,Sheet2!$B$1:$C$1698,2,0) -> AACADABBACCDCCCABACDABBCBDCCAA
A90: 1167 | B90: Nguyễn Tấn Thành | C90: 36862 | D90: 12A4 | E90: 13 | F90: 209 | G90: 12 | H90: 2.4 | I90: =VLOOKUP(A90,Sheet2!$B$1:$C$1698,2,0) -> BBDDABAADADD-BBDAAAD-CBBBBCBCD
A91: 1181 | B91: Trần Võ Anh Thi | C91: 36749 | D91: 12A4 | E91: 13 | F91: 209 | G91: 15 | H91: 3 | I91: =VLOOKUP(A91,Sheet2!$B$1:$C$1698,2,0) -> BBCBAABAAACCCBADABACACDCCDCAAB
A92: 1191 | B92: Võ Minh Thuận | C92: 30/06/1998 | D92: 12A4 | E92: 9 | F92: 209 | G92: 16 | H92: 3.2 | I92: =VLOOKUP(A92,Sheet2!$B$1:$C$1698,2,0) -> BCBDCBCCDADCABADAAABACABDDDCCA
A93: 1195 | B93: Nguyễn Ngọc Anh Thư | C93: 18/08/2000 | D93: 12A4 | E93: 14 | F93: 132 | G93: 17 | H93: 3.4 | I93: =VLOOKUP(A93,Sheet2!$B$1:$C$1698,2,0) -> AADCDADCABCDDCDCDACDCBDDBABCCD
A94: 1202 | B94: Nguyễn Lê Cẩm Tiên | C94: 14/08/2000 | D94: 12A4 | E94: 14 | F94: 485 | G94: 13 | H94: 2.6 | I94: =VLOOKUP(A94,Sheet2!$B$1:$C$1698,2,0) -> AACBABBAADDDDBCADACAABCADBDCCC
A95: 1203 | B95: Nguyễn Thị Cẩm Tiên | C95: 22/08/2000 | D95: 12A4 | E95: 14 | F95: 485 | G95: 23 | H95: 4.6 | I95: =VLOOKUP(A95,Sheet2!$B$1:$C$1698,2,0) -> AACBABBBACBCCBDACACAADDCCABCAB
A96: 1216 | B96: Tăng Ngọc Bích Trâm | C96: 26/01/2000 | D96: 12A4 | E96: 14 | F96: 485 | G96: 15 | H96: 3 | I96: =VLOOKUP(A96,Sheet2!$B$1:$C$1698,2,0) -> ACCBCBDBDBBCCBDCCABCADCDDCBDCD
A97: 1255 | B97: Nguyễn Trần Quang Viên | C97: 23/05/2000 | D97: 12A4 | E97: 15 | F97: 357 | G97: 12 | H97: 2.4 | I97: =VLOOKUP(A97,Sheet2!$B$1:$C$1698,2,0) -> CBACDDDDACDCADBDACDDCABDBBBACD
A98: 957 | B98: Phạm Huỳnh Ngọc Duyên | C98: 36537 | D98: 12A5 | E98: 9 | F98: 209 | G98: 18 | H98: 3.6 | I98: =VLOOKUP(A98,Sheet2!$B$1:$C$1698,2,0) -> CCDBCDCADADCDBBCDAACABDBCBDDBC
A99: 997 | B99: Giang Thị Minh Hiếu | C99: 20/09/2000 | D99: 12A5 | E99: 10 | F99: 132 | G99: 19 | H99: 3.8 | I99: =VLOOKUP(A99,Sheet2!$B$1:$C$1698,2,0) -> AADACDBDCCDDCCDBDACDCBADABBACA
A100: 998 | B100: Mai Ngọc Hiếu | C100: 25/07/2000 | D100: 12A5 | E100: 10 | F100: 357 | G100: 18 | H100: 3.6 | I100: =VLOOKUP(A100,Sheet2!$B$1:$C$1698,2,0) -> BBACDDAAACACBBBCACDAAADDCCCCBC
A101: 1001 | B101: Lê Thị Hoa | C101: 18/07/2000 | D101: 12A5 | E101: 10 | F101: 357 | G101: 21 | H101: 4.2 | I101: =VLOOKUP(A101,Sheet2!$B$1:$C$1698,2,0) -> BBABCDDAAAABADBBACDBCADDBCAAAC
A102: 1006 | B102: Ngô Thị Thanh Hồng | C102: 28/10/2000 | D102: 12A5 | E102: 10 | F102: 485 | G102: 11 | H102: 2.2 | I102: =VLOOKUP(A102,Sheet2!$B$1:$C$1698,2,0) -> BCCBCABABCDACDDBAACCABCDCCBDCD
...

Sheet Sheet2
A1: OK_000953.jpg | B1: 953 | C1: BADAADBCAACDCBCBCAAAABDCDABDBB
A2: OK_000952.jpg | B2: 952 | C2: BDDBACBBACAABDABCDBCABCCBBDABC
A3: OK_000951.jpg | B3: 951 | C3: DBBCCDACBDBAADBDCCDBDACDBDACDD
A4: OK_000948.jpg | B4: 948 | C4: BCCBCBDAABACBDAAACDDDCDDDCBCAD
A5: OK_000947.jpg | B5: 947 | C5: CBACCBADCCAABCBACDDBDCDDBAADAD
A6: OK_000946.jpg | B6: 946 | C6: ABDBABBADADDABADAAAAACDABCDBCB
A7: OK_000944.jpg | B7: 944 | C7: AADCADBCDDADDDCADAABCBDDABBACB
A8: OK_000940.jpg | B8: 940 | C8: AADACDBCCBCBDCADDACDABBDBACACA
A9: OK_000939.jpg | B9: 939 | C9: BCCBADBBDACDCBDACAADAADACABDCD
A10: OK_000938.jpg | B10: 938 | C10: BACBCBDBAABCBCDCCADABBDACABACA
A11: OK_000936.jpg | B11: 936 | C11: BBBACBDAABAAACCAACDDACDDBAACAC
A12: OK_000933.jpg | B12: 933 | C12: BDACCDDACCABACBAAADBDADDCCAAAD
... A201: OK_001234.jpg | B201: 1234 | C201: AADACDDCDBDDDACBDADDAABBCCCACA

Sheet Sheet3
