Workbook

Sheet Sheet1
A1: Trường THPT Nguyễn Văn Tăng
A2: BẢNG ĐIỂM TRẮC NGHIỆM KỲ THI: GIỮA HỌC KÌ 1 - NĂM HỌC 2016-2017
A3: MÔN: ĐỊA
A6: Số báo danh | B6: Họ tên thí sinh | C6: Ngày sinh | D6: Lớp | E6: Phòng | F6: Mã đề | G6: Số câu đúng | H6: Điểm | I6: Các câu trả lời | J6: Ghi chú
A7: 913 | B7: Nguyễn Phương Ngọc Anh | C7: 19/10/2000 | D7: 12A1 | E7: 8 | F7: 132 | G7: 17 | H7: 3.4 | I7: =VLOOKUP(A7,Sheet2!$B$1:$C$1698,2,0) -> AADACBBCDBCDDACCDCDBDBBCCBDAAA
A8: 914 | B8: Tạ Lan Anh | C8: 14/09/2000 | D8: 12A1 | E8: 8 | F8: 209 | G8: 13 | H8: 2.6 | I8: =VLOOKUP(A8,Sheet2!$B$1:$C$1698,2,0) -> CACDCABCCBDDABB-ABADADDDBBDACC
A9: 919 | B9: Đặng Hoài Ân | C9: 36651 | D9: 12A1 | E9: 8 | F9: 485 | G9: 11 | H9: 2.2 | I9: =VLOOKUP(A9,Sheet2!$B$1:$C$1698,2,0) -> DACBC-BBA-CDCADACD------CBBACD
A10: 932 | B10: Trần Ngọc Uyên Chi | C10: 36681 | D10: 12A1 | E10: 8 | F10: 209 | G10: 14 | H10: 2.8 | I10: =VLOOKUP(A10,Sheet2!$B$1:$C$1698,2,0) -> BCBDCBBACADBDC-DADA-AAABCCDA-C
A11: 940 | B11: Lã Mạnh Cương | C11: 20/08/2000 | D11: 12A1 | E11: 8 | F11: 132 | G11: 22 | H11: 4.4 | I11: =VLOOKUP(A11,Sheet2!$B$1:$C$1698,2,0) -> AADACDBCCBCBDCADDACDABBDBACACA
A12: 952 | B12: Nguyễn Anh Duy | C12: 22/05/1999 | D12: 12A1 | E12: 8 | F12: 485 | G12: 8 | H12: 1.6 | I12: =VLOOKUP(A12,Sheet2!$B$1:$C$1698,2,0) -> BDDBACBBACAABDABCDBCABCCBBDABC
A13: 970 | B13: Nguyễn Thành Đạt | C13: 20/02/2000 | D13: 12A1 | E13: 9 | F13: 209 | G13: 8 | H13: 1.6 | I13: =VLOOKUP(A13,Sheet2!$B$1:$C$1698,2,0) -> AB-BBDDCAABBDDBBAAADAACADDBBBB
A14: 975 | B14: Nguyễn Sĩ Anh Đức | C14: 13/11/1999 | D14: 12A1 | E14: 9 | F14: 357 | G14: 12 | H14: 2.4 | I14: =VLOOKUP(A14,Sheet2!$B$1:$C$1698,2,0) -> BBCDCDCCCBBCBDBADDACBCCCCCCCCD
A15: 990 | B15: Nguyễn Thanh Hậu | C15: 30/05/1999 | D15: 12A1 | E15: 9 | F15: 357 | G15: 12 | H15: 2.4 | I15: =VLOOKUP(A15,Sheet2!$B$1:$C$1698,2,0) -> DDABABCAABADBABAACABBBDDCDDBAD
A16: 992 | B16: Nguyễn Thị Thu Hiền | C16: 30/10/2000 | D16: 12A1 | E16: 9 | F16: 485 | G16: 12 | H16: 2.4 | I16: =VLOOKUP(A16,Sheet2!$B$1:$C$1698,2,0) -> BAADADDCAADDCC-ADABBDDDCCBDDB-
A17: 1033 | B17: Trần Thị Kim Khánh | C17: 28/08/2000 | D17: 12A1 | E17: 10 | F17: 357 | G17: 11 | H17: 2.2 | I17: =VLOOKUP(A17,Sheet2!$B$1:$C$1698,2,0) -> DCDBCB-AAADBBCAAACDBDBDAABADBC
A18: 1049 | B18: Hồ Văn Lợi | C18: 36809 | D18: 12A1 | E18: 11 | F18: 209 | G18: 14 | H18: 2.8 | I18: =VLOOKUP(A18,Sheet2!$B$1:$C$1698,2,0) -> BCBDCAAADABDAAADDBBBCDBDBCDDCD
A19: 1113 | B19: Nguyễn Thành Phú | C19: 19/12/2000 | D19: 12A1 | E19: 12 | F19: 357 | G19: 11 | H19: 2.2 | I19: =VLOOKUP(A19,Sheet2!$B$1:$C$1698,2,0) -> CADBCBDAAAAAACAACADDCABDBCBDBD
A20: 1138 | B20: Lê Minh Quý | C20: 36292 | D20: 12A1 | E20: 12 | F20: 132 | G20: 12 | H20: 2.4 | I20: =VLOOKUP(A20,Sheet2!$B$1:$C$1698,2,0) -> AACBBDDCCCCDCADBDACBABDCBCBACD
A21: 1156 | B21: Trần Ngọc Linh Tâm | C21: 24/12/2000 | D21: 12A1 | E21: 13 | F21: 485 | G21: 7 | H21: 1.4 | I21: =VLOOKUP(A21,Sheet2!$B$1:$C$1698,2,0) -> DDACDBCBACCBDAACBACBBADDDCBCAD
A22: 1174 | B22: Đặng Quốc Thắng | C22: 23/04/2000 | D22: 12A1 | E22: 13 | F22: 209 | G22: 8 | H22: 1.6 | I22: =VLOOKUP(A22,Sheet2!$B$1:$C$1698,2,0) -> DBDBADBCADBCABDABCBDACBACBADBD
A23: 1182 | B23: Đoàn Gia Hải Thiên | C23: 36557 | D23: 12A1 | E23: 13 | F23: 485 | G23: 20 | H23: 4 | I23: =VLOOKUP(A23,Sheet2!$B$1:$C$1698,2,0) -> CCCBADBABCCDABCACADBABDCDCBAAB
A24: 1193 | B24: Nguyễn Thanh Thủy | C24: 17/09/2000 | D24: 12A1 | E24: 13 | F24: 485 | G24: 9 | H24: 1.8 | I24: =VLOOKUP(A24,Sheet2!$B$1:$C$1698,2,0) -> CDAACDDBABDDCDDACBCBABBBACADCD
A25: 1205 | B25: Đặng Minh Tiến | C25: 20/01/2000 | D25: 12A1 | E25: 14 | F25: 132 | G25: 10 | H25: 2 | I25: =VLOOKUP(A25,Sheet2!$B$1:$C$1698,2,0) -> AACDBDADCBCCCDCBDBCDDAAADBBAAB
A26: 1244 | B26: Lê Thanh Tùng | C26: 35837 | D26: 12A1 | E26: 15 | F26: 357 | G26: 13 | H26: 2.6 | I26: =VLOOKUP(A26,Sheet2!$B$1:$C$1698,2,0) -> BDACCBAAAADDBABAACDCCADDBADDAD
A27: 1256 | B27: Nguyễn Đức Việt | C27: 22/11/2000 | D27: 12A1 | E27: 15 | F27: 132 | G27: 13 | H27: 2.6 | I27: =VLOOKUP(A27,Sheet2!$B$1:$C$1698,2,0) -> ADDABBBDCABACCCCDBBBDADDBBAACA
A28: 1262 | B28: Nguyễn Hiếu Tường Vy | C28: 20/06/2000 | D28: 12A1 | E28: 15 | F28: 209 | G28: 8 | H28: 1.6 | I28: =VLOOKUP(A28,Sheet2!$B$1:$C$1698,2,0) -> ACBCBDADCADCDBCCDDABCBADDBCDCA
A29: 918 | B29: Nguyễn Thị Ánh | C29: 18/02/2000 | D29: 12A2 | E29: 8 | F29: 485 | G29: 23 | H29: 4.6 | I29: =VLOOKUP(A29,Sheet2!$B$1:$C$1698,2,0) -> AADCABBBACCDCCCACADAADCCCCBDAB
A30: 931 | B30: Tháng Hoàn Liên Châu | C30: 36715 | D30: 12A2 | E30: 8 | F30: 209 | G30: 13 | H30: 2.6 | I30: =VLOOKUP(A30,Sheet2!$B$1:$C$1698,2,0) -> DBDCCDBABCDBABADAABCDDBCBCDACD
A31: 951 | B31: Lê Minh Duy | C31: 23/12/1999 | D31: 12A2 | E31: 8 | F31: 357 | G31: 13 | H31: 2.6 | I31: =VLOOKUP(A31,Sheet2!$B$1:$C$1698,2,0) -> DBBCCDACBDBAADBDCCDBDACDBDACDD
A32: 955 | B32: Trần Khánh Duy | C32: 16/05/2000 | D32: 12A2 | E32: 9 | F32: 132 | G32: 13 | H32: 2.6 | I32: =VLOOKUP(A32,Sheet2!$B$1:$C$1698,2,0) -> CACADDBDCBBABCCCDABADBADBCAACB
A33: 966 | B33: Mai Thành Đạt | C33: 36589 | D33: 12A2 | E33: 9 | F33: 485 | G33: 10 | H33: 2 | I33: =VLOOKUP(A33,Sheet2!$B$1:$C$1698,2,0) -> CACACCBDADCACBBBCACBAACAABBCBB
A34: 969 | B34: Nguyễn Phước Đạt | C34: 20/09/2000 | D34: 12A2 | E34: 9 | F34: 132 | G34: 12 | H34: 2.4 | I34: =VLOOKUP(A34,Sheet2!$B$1:$C$1698,2,0) -> CADABABAAACDDBBADCABBAACCBBACD
A35: 987 | B35: Lê Kim Hằng | C35: 13/02/2000 | D35: 12A2 | E35: 9 | F35: 209 | G35: 13 | H35: 2.6 | I35: =VLOOKUP(A35,Sheet2!$B$1:$C$1698,2,0) -> BABBBCBCDACAA*CCAABADCBBBADDCC
A36: 995 | B36: Nguyễn Minh Hiển | C36: 15/10/2000 | D36: 12A2 | E36: 9 | F36: 485 | G36: 10 | H36: 2 | I36: =VLOOKUP(A36,Sheet2!$B$1:$C$1698,2,0) -> ADDCABBABACCCADBCBBABCACDCBDDC
A37: 996 | B37: Hoàng Ngọc Hiệp | C37: 36775 | D37: 12A2 | E37: 10 | F37: 357 | G37: 17 | H37: 3.4 | I37: =VLOOKUP(A37,Sheet2!$B$1:$C$1698,2,0) -> BBDCDDACACACCBBCACDAAADDDCACAD
A38: 1011 | B38: Lã Minh Huy | C38: 36258 | D38: 12A2 | E38: 10 | F38: 132 | G38: 13 | H38: 2.6 | I38: =VLOOKUP(A38,Sheet2!$B$1:$C$1698,2,0) -> AABCBDBBDBADACDBDCADDDBCBABAAB
A39: 1019 | B39: Nguyễn Ngọc Thanh Huyền | C39: 36719 | D39: 12A2 | E39: 10 | F39: 485 | G39: 10 | H39: 2 | I39: =VLOOKUP(A39,Sheet2!$B$1:$C$1698,2,0) -> DDCBCDDDABBCCBDACABDABCBDADABD
A40: 1060 | B40: Phan Anh Minh | C40: 26/09/2000 | D40: 12A2 | E40: 11 | F40: 132 | G40: 16 | H40: 3.2 | I40: =VLOOKUP(A40,Sheet2!$B$1:$C$1698,2,0) -> AADABABADCADBDACBDCBACADABBACA
A41: 1091 | B41: Vũ Đào Thúy Nhi | C41: 27/08/2000 | D41: 12A2 | E41: 11 | F41: 485 | G41: 15 | H41: 3 | I41: =VLOOKUP(A41,Sheet2!$B$1:$C$1698,2,0) -> DABBCDBBACCABBDACADCAADBDCBADC
A42: 1105 | B42: Nguyễn Duy Phát | C42: 25/03/2000 | D42: 12A2 | E42: 12 | F42: 209 | G42: 21 | H42: 4.2 | I42: =VLOOKUP(A42,Sheet2!$B$1:$C$1698,2,0) -> BCDCCABADADCDBCDDAACBCDCADDBCA
...

Sheet Sheet2
A1: OK_000953.jpg | B1: 953 | C1: BADAADBCAACDCBCBCAAAABDCDABDBB
A2: OK_000952.jpg | B2: 952 | C2: BDDBACBBACAABDABCDBCABCCBBDABC
A3: OK_000951.jpg | B3: 951 | C3: DBBCCDACBDBAADBDCCDBDACDBDACDD
A4: OK_000948.jpg | B4: 948 | C4: BCCBCBDAABACBDAAACDDDCDDDCBCAD
A5: OK_000947.jpg | B5: 947 | C5: CBACCBADCCAABCBACDDBDCDDBAADAD
A6: OK_000946.jpg | B6: 946 | C6: ABDBABBADADDABADAAAAACDABCDBCB
A7: OK_000944.jpg | B7: 944 | C7: AADCADBCDDADDDCADAABCBDDABBACB
A8: OK_000940.jpg | B8: 940 | C8: AADACDBCCBCBDCADDACDABBDBACACA
A9: OK_000939.jpg | B9: 939 | C9: BCCBADBBDACDCBDACAADAADACABDCD
A10: OK_000938.jpg | B10: 938 | C10: BACBCBDBAABCBCDCCADABBDACABACA
A11: OK_000936.jpg | B11: 936 | C11: BBBACBDAABAAACCAACDDACDDBAACAC
A12: OK_000933.jpg | B12: 933 | C12: BDACCDDACCABACBAAADBDADDCCAAAD
... A201: OK_001234.jpg | B201: 1234 | C201: AADACDDCDBDDDACBDADDAABBCCCACA

Sheet Sheet3
